{"text_format":"1","workbook":"xlsx","n_sheets":18,"sheets":["т.1","т.2","2.1","т.2.2","т.3","т.4","т.4.1","т.4.2","т.5","т.6","т.6.1","т.7","т.8","т.8.1","т.9","т.9.1","т.10","т.11"],"not_rendered":{"charts":0,"images":0,"macros":1,"external_links":1,"defined_names":0,"comments":0,"pivot_tables":0},"unopened":[],"bounds":{"document_bytes":16777216,"sheet_cells":100000,"rows_first":2000,"rows_last":500,"rows_between":2000,"halvings":0,"cell_chars":16384,"cell_head_chars":4096},"cells_cut":0,"cells_raw":0,"read":"whole","date_system":"1900"}

{"sheet":"т.1","index":0,"n_rows":56,"n_cols":9,"rows_kept":56,"cut":false,"hidden":false,"merged":[[1,0,1,8],[3,2,3,4],[3,5,3,8],[4,5,4,6],[4,7,4,8]]}
[null,null,null,null,null,null,null,null,"Таблица 1"]
["Количество населения и общедоступных библиотек Министерства культуры"]
[]
["№","ЦБС","Население ( чел. в тыс.)",null,null,"Количество библиотек"]
[null,null,"Всего","гор.","сельск.",2019,null,2020]
[null,null,null,null,null,"всего","из них в","всего","из них в"]
[null,null,null,null,null,null,"с/мест. ",null,"с/мест"]
[1,"Абыйская",{"$f":"D8+E8","v":4},2,2,7,5,7,5]
[2,"Аллаиховская",2.7,2.1,0.6,6,4,6,4]
[3,"Амгинская",16.8,null,16.8,16,16,16,16]
[4,"Анабарская",3.7,null,3.7,3,3,3,3]
[5,"Булунская",8.5,4.8,3.7,8,6,8,6]
[6,"Верхневилюйская",21,null,21,23,23,23,23]
[7,"Верхнеколымская",4,2.7,1.3,7,5,7,5]
[8,"Верхоянская",11.1,4.8,6.3,17,13,17,13]
[9,"Вилюйская",25,14,11,24,20,24,20]
[10,"Горная",12.1,null,12.1,9,9,9,9]
[11,"Жиганская",4.0999999999999996,null,4.0999999999999996,5,5,5,5]
[12,"Кобяйская",12.1,3.6,8.5,17,15,17,15]
[13,"Ленская",36.300000000000004,31.6,4.7,21,14,21,14]
[14,"Момская",4,null,4,7,7,7,7]
[15,"Намская",24.9,null,24.9,20,20,20,20]
[16,"Нижнеколымская",4.3,2.6,1.7,6,3,6,3]
[17,"Нюрбинская",23.6,9.6999999999999993,13.9,23,20,23,20]
[18,"Оймяконская",7.8999999999999995,5.0999999999999996,2.8,9,6,9,6]
[19,"Олекминская",24.5,9.1999999999999993,15.3,27,25,27,25]
[20,"Оленекская",4.2,null,4.2,5,5,5,5]
[21,"Среднеколымская",7.3,3.5,3.8,11,9,11,9]
[22,"Сунтарская*",23.4,null,23.4,19,19,21,21]
[23,"Таттинская",16.2,null,16.2,15,15,15,15]
[24,"Томпонская",12.5,7.1,5.4,13,10,13,10]
[25,"Усть-Алданская",20.5,null,20.5,28,28,28,28]
[26,"Усть-Майская",7.5,5.4,2.1,10,5,10,5]
[27,"Усть-Янская",7,3.9,3.1,9,5,9,5]
[28,"Хангаласская*",32.799999999999997,15.5,17.3,27,22,24,21]
[29,"Чурапчинская",21,null,21,19,19,19,19]
[30,"Мирнинская",72.2,69.8,2.4,11,3,11,3]
[31,"Нерюнгринская",73.899999999999991,72.8,1.1000000000000001,8,2,8,2]
[32,"Эвено-Бытантайская",2.8,null,2.8,3,3,3,3]
[33,"Якутская",339.7,323,16.7,18,4,18,4]
[34,"Алданская*",39.1,35.1,4,7,2,9,5]
[35,"М.-Кангаласская*",30.9,4.0999999999999996,26.8,2,2,31,30]
[36,"ГБ ГП \"г.Нерюнгри \"",null,null,null,1,null,1]
[37,"Сунтарская ДЮПБ",null,null,null,1,1]
[38,"Бердигестях ДБ",null,null,null,1,1,1,1]
[39,"Б-ка ГО \"п. Жатай\"",10.3,10.3,null,1,null,1]
[40,"Алданский БИЦ*",null,null,null,null,null,2,1]
[41,"Томмотский БИЦ*",null,null,null,null,null,3,1]
[null,"Итого по МБ",971.90000000000009,{"$f":"SUM(D8:D48)","v":642.70000000000005},329.2,464,374,498,407]
[null,"НБ РС(Я)",0,null,null,1,null,1]
[null,"ЦДЮ НБ РС(Я)",0,null,null,1,null,1]
[null,"РБС",0,null,null,1,null,1]
[null,"ВСЕГО ",{"$f":"SUM(C49:C52)","v":971.90000000000009},642.70000000000005,329.2,467,374,501,407]
[null,"Б-ки КДУ",null,null,null,40,35]
[null,"Итого по РС(Я)",null,null,null,{"$f":"SUM(F53:F54)","v":507},{"$f":"SUM(G53:G54)","v":409},{"$f":"SUM(H53:H54)","v":501},{"$f":"SUM(I53:I54)","v":407}]
[null,"* - библиотеки, где прошла реорганизация"]

{"sheet":"т.2","index":1,"n_rows":53,"n_cols":8,"rows_kept":53,"cut":false,"hidden":false,"merged":[[1,0,1,7],[2,0,2,7],[3,2,3,4],[3,5,3,7]]}
[null,null,null,null,null,null,"Таблица 2"]
["Количество пользователей и процент охвата населения "]
["библиотечным обслуживанием"]
["№","ЦБС","кол-во пользователей",null,null,"% охвата населения библ.обслуж."]
[null,null,2019,2020,"\"+  -\"",2019,2020,"\"+  -\""]
[1,"Абыйская",3203,1805,{"$f":"D6-C6","v":-1398},80,{"$f":"D6*100/т.1!C8/1000","v":45.125},{"$f":"G6-F6","v":-34.875}]
[2,"Аллаиховская",1465,755,{"$f":"D7-C7","v":-710},54.2,{"$f":"D7*100/т.1!C9/1000","v":27.962962962962958},{"$f":"G7-F7","v":-26.237037037037044}]
[3,"Амгинская",12007,7401,-4606,71.900000000000006,{"$f":"D8*100/т.1!C10/1000","v":44.053571428571431},-27.846428571428575]
[4,"Анабарская",1740,1870,130,48.3,{"$f":"D9*100/т.1!C11/1000","v":50.54054054054054},2.2405405405405432]
[5,"Булунская",6795,5832,-963,81.900000000000006,{"$f":"D10*100/т.1!C12/1000","v":68.611764705882351},-13.288235294117655]
[6,"Верхневилюйская",13748,8184,-5564,65.5,{"$f":"D11*100/т.1!C13/1000","v":38.971428571428575},-26.528571428571425]
[7,"Верхнеколымская",3985,3552,-433,99,{"$f":"D12*100/т.1!C14/1000","v":88.8},-10.200000000000003]
[8,"Верхоянская",8411,3703,{"$f":"D13-C13","v":-4708},75.7,{"$f":"D13*100/т.1!C15/1000","v":33.36036036036036},-42.339639639639643]
[9,"Вилюйская",12964,9657,-3307,51.8,{"$f":"D14*100/т.1!C16/1000","v":38.628},-13.171999999999997]
[10,"Горная",6337,5733,-604,66.5,57.5,-9]
[11,"Жиганская",3915,3841,-74,93.2,{"$f":"D16*100/т.1!C18/1000","v":93.682926829268297},0.482926829268294]
[12,"Кобяйская",10546,8498,-2048,85.7,{"$f":"D17*100/т.1!C19/1000","v":70.231404958677686},-15.468595041322317]
[13,"Ленская",17055,9603,-7452,46.7,{"$f":"D18*100/т.1!C20/1000","v":26.454545454545453},-20.24545454545455]
[14,"Момская",3143,2080,-1063,78.5,{"$f":"D19*100/т.1!C21/1000","v":52},-26.5]
[15,"Намская",15947,6866,-9081,64.5,{"$f":"D20*100/т.1!C22/1000","v":27.574297188755022},-36.925702811244975]
[16,"Нижнеколымская",3842,2370,-1472,89.3,{"$f":"D21*100/т.1!C23/1000","v":55.116279069767444},-34.183720930232553]
[17,"Нюрбинская",19488,19248,-240,82.2,{"$f":"D22*100/т.1!C24/1000","v":81.559322033898297},-0.64067796610170547]
[18,"Оймяконская",6389,2848,-3541,77.900000000000006,{"$f":"D23*100/т.1!C25/1000","v":36.050632911392405},-41.8493670886076]
[19,"Олекминская",15067,8096,-6971,61,{"$f":"D24*100/т.1!C26/1000","v":33.044897959183679},-27.955102040816321]
[20,"Оленекская",3193,3155,-38,76,{"$f":"D25*100/т.1!C27/1000","v":75.11904761904762},-0.8809523809523796]
[21,"Среднеколымская",5416,4194,-1222,73.2,{"$f":"D26*100/т.1!C28/1000","v":57.452054794520549},-15.747945205479454]
[22,"Сунтарская*",12516,14622,2106,66.8,{"$f":"D27*100/т.1!C29/1000","v":62.487179487179489},-4.3128205128205082]
[23,"Таттинская",10105,9404,-701,62.4,{"$f":"D28*100/т.1!C30/1000","v":58.049382716049379},-4.3506172839506192]
[24,"Томпонская",7376,6266,-1110,59,{"$f":"D29*100/т.1!C31/1000","v":50.128},-8.8719999999999999]
[25,"Усть-Алданская",20002,19659,-343,97,{"$f":"D30*100/т.1!C32/1000","v":95.89756097560975},-1.1024390243902502]
[26,"Усть-Майская",5382,4975,-407,72.7,{"$f":"D31*100/т.1!C33/1000","v":66.333333333333329},-6.3666666666666742]
[27,"Усть-Янская",4106,4056,-50,58.6,{"$f":"D32*100/т.1!C34/1000","v":57.942857142857143},-0.65714285714285836]
[28,"Хангаласская*",28597,22365,-6232,87.2,{"$f":"D33*100/т.1!C35/1000","v":68.185975609756099},-19.014024390243904]
[29,"Чурапчинская",15770,9554,-6216,75,{"$f":"D34*100/т.1!C36/1000","v":45.495238095238093},-29.504761904761907]
[30,"Мирнинская",23850,14307,-9543,32.9,{"$f":"D35*100/т.1!C37/1000","v":19.815789473684209},-13.08421052631579]
[31,"Нерюнгринская",13208,13145,-63,30.6,30.4,-0.20000000000000284]
[32,"Эвено-Бытантай",1452,970,{"$f":"D37-C37","v":-482},51.8,{"$f":"D37*100/т.1!C39/1000","v":34.642857142857146},{"$f":"G37-F37","v":-17.157142857142851}]
[33,"Якутская",69665,34180,-35485,20.7,{"$f":"D38*100/т.1!C40/1000","v":10.061819252281424},-10.638180747718575]
[34,"Алданская*",15093,8634,{"$f":"D39-C39","v":-6459},39.299999999999997,39.6,{"$f":"G39-F39","v":0.30000000000000426}]
[35,"М.-Кангаласская*",6129,14898,8769,19.8,{"$f":"D40*100/т.1!C42/1000","v":48.213592233009706},{"$f":"G40-F40","v":28.413592233009705}]
[36,"ГБ ГП \"г.Нерюнгри\"",9278,6802,-2476]
[37,"Сунтарская ДЮПБ",3115,null,-3115]
[38,"Бердигестях ДБ",1643,1225,-418]
[39,"Б-ка ГО \"п. Жатай\"",2735,1573,-1162,27,{"$f":"D44*100/т.1!C46/1000","v":15.271844660194175},-11.728155339805825]
[40,"Алданский БИЦ*",null,3105,3105]
[41,"Томмотский БИЦ*",null,3758,3758]
[null,"Итого по МБ",{"$f":"SUM(C6:C46)","v":424678},{"$f":"SUM(D6:D46)","v":312789},{"$f":"SUM(E6:E46)","v":-111889},43.9,{"$f":"D47*100/т.1!C49/1000","v":32.183249305484097},{"$f":"G47-F47","v":-11.716750694515902}]
[null,"НБ РС(Я)",35698,29402,{"$f":"D48-C48","v":-6296}]
[null,"ЦДЧ НБ РС(Я)",11707,5415,{"$f":"D49-C49","v":-6292}]
[null,"РБС",2002,2256,{"$f":"D50-C50","v":254}]
[null,"ВСЕГО ",{"$f":"SUM(C47:C50)","v":474085},{"$f":"SUM(D47:D50)","v":349862},{"$f":"SUM(E47:E50)","v":-124223},49,{"$f":"D51*100/т.1!C53/1000","v":35.997736392632987},{"$f":"G51-F51","v":-13.002263607367013}]
[null,"Б-ки КДУ",19071,null,{"$f":"D52-C52","v":-19071}]
[null,"Итого по РС(Я)",{"$f":"SUM(C51:C52)","v":493156},{"$f":"SUM(D51:D52)","v":349862},{"$f":"SUM(E51:E52)","v":-143294},51,36,{"$f":"G53-F53","v":-15}]

{"sheet":"2.1","index":2,"n_rows":50,"n_cols":9,"rows_kept":50,"cut":false,"hidden":false,"merged":[[1,0,1,8],[3,3,3,5],[3,6,4,6],[3,7,4,7],[3,0,4,0],[3,1,4,1]]}
[null,null,null,null,null,null,null,null,"Таблица 2.1"]
["Количество пользователей "]
[]
["№","ЦБС","всего","из них пользователей, обслуженных в стенах библиотеки ",null,null,"из них во внестац","из них удал. польз","Читаемость"]
[null,null,null,"всего","до 14 лет","от 15-30"]
[1,"Абыйская",1805,1219,223,98,586,null,17.5]
[2,"Аллаиховская",755,648,279,90,107,null,21.1]
[3,"Амгинская",7401,5837,1855,1449,1564,365,16.600000000000001]
[4,"Анабарская",1870,1469,382,274,401,null,11.6]
[5,"Булунская",5832,4919,1153,764,913,null,19.399999999999999]
[6,"Верхневилюйская",8184,6826,2235,1584,1358,50,18.3]
[7,"Верхнеколымская",3552,3003,959,395,549,52,23.5]
[8,"Верхоянская",3703,3190,957,663,513,null,17]
[9,"Вилюйская",9657,8628,2638,1935,1029,699,19.8]
[10,"Горная",5733,4558,1020,1319,1175,505,27]
[11,"Жиганская",3841,2973,686,517,868,null,17.2]
[12,"Кобяйская",8498,6517,1943,1942,1981,306,21.2]
[13,"Ленская",9603,7497,3519,1160,2106,102,19.8]
[14,"Момская",2080,1930,630,447,150,null,15.6]
[15,"Намская",6866,5833,2143,1261,1033,107,14.1]
[16,"Нижнеколымская",2370,2370,915,633,null,null,13.7]
[17,"Нюрбинская",19248,11163,4124,2495,8085,null,9.1999999999999993]
[18,"Оймяконская",2848,2350,728,772,498,null,19.2]
[19,"Олекминская",8096,7224,2408,1675,872,null,17]
[20,"Оленекская",3155,1111,387,369,2044,65,10.3]
[21,"Среднеколымская",4194,3708,825,678,486,null,8.4]
[22,"Сунтарская*",14622,12432,4042,3179,2190,28,13.2]
[23,"Таттинская",9404,5451,2084,919,3953,332,20.6]
[24,"Томпонская",6266,5084,2017,1125,1182,423,18.8]
[25,"Усть-Алданская",19659,10087,3240,2422,9572,null,15.7]
[26,"Усть-Майская",4975,3943,1499,879,1032,null,27.8]
[27,"Усть-Янская",4056,2869,955,999,1187,null,18.5]
[28,"Хангаласская*",22365,7303,2270,1247,15062,13172,8.6999999999999993]
[29,"Чурапчинская",9554,8702,2770,1716,852,247,18.3]
[30,"Мирнинская",14307,13680,5164,2458,627,101,19.3]
[31,"Нерюнгринская",13145,10908,3102,1894,2237,null,21.2]
[32,"Эвено-Бытантайская",970,348,217,40,622,null,14]
[33,"Якутская",34180,32031,12666,7653,2149,350,16.399999999999999]
[34,"Алданская*",8634,8028,1350,1580,606,154,17.2]
[35,"М.-Кангаласская*",14898,11801,4784,2113,3097,392,13.8]
[36,"ГБ ГП \"г.Нерюнгри \"",6802,3718,2048,1170,3084,2145,11.8]
[37," Бердигестях ДБ",1225,607,558,49,618,240,20]
[38,"Б-ка ГО \"п. Жатай\"",1573,1573,632,242,null,null,17.100000000000001]
[39,"Алданский БИЦ*",3105,2632,1451,537,473,null,19]
[40,"Томмотский БИЦ*",3758,3282,1387,547,476,null,18]
[null,"Итого по МБ",{"$f":"SUM(C6:C45)","v":312789},237452,82245,51289,75337,19835,15.8]
[null,"НБ РС(Я)",29402,11326,null,6969,18076,18076,103.9]
[null,"ЦДЮ НБ РС(Я)",5415,4956,4438,513,459,2216,12.1]
[null,"РБС",2256,545,357,125,1711,250,28.1]
[null,"ВСЕГО ",{"$f":"SUM(C46:C49)","v":349862},254279,87040,58896,95583,40377,23.2]

{"sheet":"т.2.2","index":3,"n_rows":45,"n_cols":8,"rows_kept":45,"cut":false,"hidden":false,"merged":[[2,6,5,6],[2,7,5,7],[2,0,5,0],[2,1,5,1],[2,2,5,2],[2,3,2,5],[3,3,5,3],[3,4,5,4],[3,5,5,5]]}
[null,null,null,null,null,"Таблица 2.2 "]
[null,"Количество пользователей в сельской местности"]
["№","ЦБС","всего из общего числа в с/местн.","из них пользователей, обслуженных в стенах библиотеки ",null,null,"из них во внестац","из них удал. польз"]
[null,null,null,"всего","до 14 лет","от 15-30"]
[]
[]
[1,"Абыйская",635,339,97,51,296]
[2,"Аллаиховская",240,202,85,48,38]
[3,"Амгинская",7401,5837,1855,1449,1564,365]
[4,"Анабарская",1870,1469,382,274,401]
[5,"Булунская",2045,1608,588,565,437]
[6,"Верхневилюйская",8184,6826,2235,1584,1358,50]
[7,"Верхнеколымская",1261,1088,289,150,173]
[8,"Верхоянская",2242,2048,634,382,194]
[9,"Вилюйская",4569,4313,1206,885,256]
[10,"Горная",5733,4558,1020,1319,1175,505]
[11,"Жиганская",3841,2973,686,517,868]
[12,"Кобяйская",3903,3105,1107,657,798]
[13,"Ленская",2011,1900,730,249,111]
[14,"Момская",2080,1930,630,447,150]
[15,"Намская",6866,5833,2143,1261,1033,107]
[16,"Нижнеколымская",629,629,165,183]
[17,"Нюрбинская",9584,6412,2036,1088,3172]
[18,"Оймяконская",1351,1066,312,275,285]
[19,"Олекминская",4616,3911,1343,740,705]
[20,"Оленекская",3155,1111,387,369,2044,65]
[21,"Среднеколымская",2751,2486,502,436,265]
[22,"Сунтарская*",14622,12432,4042,3179,2190,28]
[23,"Таттинская",9404,5451,2084,919,3953,332]
[24,"Томпонская",2895,2298,685,494,597]
[25,"Усть-Алданская",19659,10087,3240,2422,9572]
[26,"Усть-Майская",1234,1068,359,210,166]
[27,"Усть-Янская",1918,1422,385,528,496]
[28,"Хангаласская*",7018,4847,1375,883,2171,480]
[29,"Чурапчинская",9554,8702,2770,1716,852,247]
[30,"Мирнинская",546,494,199,90,52]
[31,"Нерюнгринская",931,764,213,144,167]
[32,"Эвено-Бытантайская",970,348,217,40,622]
[33,"Якутская",3597,3576,1467,619,21]
[34,"Алданская*",670,585,280,121,85]
[35,"М.-Кангаласская*",14203,11140,4435,1992,3063,392]
[36,"Бердигестях ДБ",1225,607,558,49,618,240]
[37,"Алданский БИЦ*",94,92,13,21,2]
[38,"Томмотский БИЦ*",132,102,31,19,30]
[null,"Итого по РС(Я)",{"$f":"SUM(C7:C44)","v":163639},123659,40785,26375,39980,2811]

{"sheet":"т.3","index":4,"n_rows":52,"n_cols":8,"rows_kept":52,"cut":false,"hidden":false,"merged":[[1,0,1,7],[2,2,2,4],[2,5,2,7]]}
[null,null,null,null,null,null,"Таблица 3"]
["Число посещений. Посещаемость"]
["№","ЦБС","Число посещений",null,null,"Посещаемость"]
[null,null,2019,2020,"\"+  -\"",2019,2020,"\"+  -\""]
[1,"Абыйская",37674,18620,{"$f":"D5-C5","v":-19054},20.9,{"$f":"т.3!D5/т.2!D6","v":10.315789473684211},{"$f":"G5 - F5","v":-10.584210526315788}]
[2,"Аллаиховская",11961,3714,{"$f":"D6-C6","v":-8247},15.8,{"$f":"т.3!D6/т.2!D7","v":4.919205298013245},-10.880794701986755]
[3,"Амгинская",105425,56445,-48980,14.2,{"$f":"т.3!D7/т.2!D8","v":7.6266720713417104},-6.5733279286582889]
[4,"Анабарская",11550,5681,-5869,6.2,{"$f":"т.3!D8/т.2!D9","v":3.0379679144385028},-3.1620320855614974]
[5,"Булунская",71374,40611,-30763,12.2,{"$f":"т.3!D9/т.2!D10","v":6.9634773662551437},-5.2365226337448556]
[6,"Верхневилюйская",133110,64181,-68929,16.3,{"$f":"т.3!D10/т.2!D11","v":7.8422531769305959},-8.4577468230694048]
[7,"Верхнеколымская",35916,27119,-8797,10.1,{"$f":"т.3!D11/т.2!D12","v":7.6348536036036032},-2.4651463963963964]
[8,"Верхоянская",74364,32114,-42250,20.100000000000001,{"$f":"т.3!D12/т.2!D13","v":8.6724277612746423},-11.427572238725359]
[9,"Вилюйская",146866,74032,-72834,15.2,{"$f":"т.3!D13/т.2!D14","v":7.6661489075282176},-7.5338510924717816]
[10,"Горная",70776,36624,-34152,12.3,{"$f":"т.3!D14/т.2!D15","v":6.3882783882783887},-5.911721611721612]
[11,"Жиганская",32486,21386,-11100,8.5,{"$f":"т.3!D15/т.2!D16","v":5.5678208799791724},-2.9321791200208276]
[12,"Кобяйская",126434,77927,-48507,14.9,{"$f":"т.3!D16/т.2!D17","v":9.1700400094139791},-5.7299599905860212]
[13,"Ленская",147819,70112,-77707,15.4,{"$f":"т.3!D17/т.2!D18","v":7.3010517546600022},-8.0989482453399972]
[14,"Момская",29262,17252,-12010,14.1,{"$f":"т.3!D18/т.2!D19","v":8.2942307692307686},-5.805769230769231]
[15,"Намская",153267,51697,-101570,22.3,{"$f":"т.3!D19/т.2!D20","v":7.5294203320710746},-14.770579667928926]
[16,"Нижнеколымская",39741,13730,-26011,16.8,{"$f":"т.3!D20/т.2!D21","v":5.7932489451476794},-11.006751054852321]
[17,"Нюрбинская",148548,70382,-78166,7.7,{"$f":"т.3!D21/т.2!D22","v":3.6565876974231091},-4.0434123025768915]
[18,"Оймяконская",55569,28738,-26831,19.5,{"$f":"т.3!D22/т.2!D23","v":10.09058988764045},-9.4094101123595504]
[19,"Олекминская",156599,64415,-92184,19.3,{"$f":"т.3!D23/т.2!D24","v":7.9563982213438731},-11.343601778656128]
[20,"Оленекская",23086,10392,-12694,7.3,{"$f":"т.3!D24/т.2!D25","v":3.2938193343898572},-4.0061806656101426]
[21,"Среднеколымская",41325,16029,-25296,9.9,{"$f":"т.3!D25/т.2!D26","v":3.8218884120171674},-6.0781115879828329]
[22,"Сунтарская*",121204,86499,-34705,8.3000000000000007,{"$f":"т.3!D26/т.2!D27","v":5.9156750102585143},-2.3843249897414864]
[23,"Таттинская",96573,63284,-33289,10.3,{"$f":"т.3!D27/т.2!D28","v":6.7294768183751597},-3.5705231816248411]
[24,"Томпонская",67998,44870,-23128,10.9,{"$f":"т.3!D28/т.2!D29","v":7.1608681774656882},-3.7391318225343122]
[25,"Усть-Алданская",205316,202226,-3090,10.4,{"$f":"т.3!D29/т.2!D30","v":10.28668803092731},-0.11331196907269003]
[26,"Усть-Майская",70288,63592,-6696,14.1,{"$f":"т.3!D30/т.2!D31","v":12.782311557788944},-1.3176884422110557]
[27,"Усть-Янская",51261,29469,-21792,12.6,{"$f":"т.3!D31/т.2!D32","v":7.265532544378698},-5.3344674556213016]
[28,"Хангаласская*",178738,86721,-92017,8,{"$f":"т.3!D32/т.2!D33","v":3.877531857813548},-4.1224681421864524]
[29,"Чурапчинская",147693,76758,-70935,15.5,{"$f":"т.3!D33/т.2!D34","v":8.0341218337868963},-7.4658781662131037]
[30,"Мирнинская",177904,97387,-80517,12.4,{"$f":"т.3!D34/т.2!D35","v":6.8069476480044733},-5.5930523519955271]
[31,"Нерюнгринская",116325,76055,-40270,8.8000000000000007,{"$f":"т.3!D35/т.2!D36","v":5.7858501331304675},-3.0141498668695332]
[32,"Эвено-Бытантай",17452,6362,-11090,18,{"$f":"т.3!D36/т.2!D37","v":6.5587628865979379},-11.441237113402062]
[33,"Якутская",506017,394540,-111477,14.8,{"$f":"т.3!D37/т.2!D38","v":11.543007606787596},-3.2569923932124052]
[34,"Алданская*",132380,106199,{"$f":"D38-C38","v":-26181},15.3,{"$f":"т.3!D38/т.2!D39","v":12.300092656937688},{"$f":"G38 - F38","v":-2.9999073430623131}]
[35,"М.-Кангаласская*",61334,104471,{"$f":"D39-C39","v":43137},4.0999999999999996,{"$f":"т.3!D39/т.2!D40","v":7.0124177741978793},{"$f":"G39 - F39","v":2.9124177741978796}]
[36,"ГБ ГП \"г.Нерюнгри \"",94252,50258,-43994,13.9,{"$f":"т.3!D40/т.2!D41","v":7.3887092031755364},-6.511290796824464]
[37,"Сунтарская ДЮПБ",27269,null,-27269,8.8000000000000007,{"$f":"т.3!D41/т.2!C42","v":0},-8.8000000000000007]
[38,"Бердигестях ДБ",15164,12547,-2617,12.4,{"$f":"т.3!D42/т.2!D43","v":10.242448979591837},-2.1575510204081638]
[39,"Б-ка ГО \"п. Жатай\"",20823,12462,-8361,13.2,{"$f":"т.3!D43/т.2!D44","v":7.9224411951684681},-5.2775588048315312]
[40,"Алданский БИЦ*",null,25411,{"$f":"D44-C44","v":25411},11.6,null,{"$f":"G44 - F44","v":-11.6}]
[41,"Томмотский БИЦ*",null,29186,29186]
[null,"Итого по МБ",{"$f":"SUM(C5:C45)","v":3761143},{"$f":"SUM(D5:D45)","v":2369498},-1391645,8.6999999999999993,{"$f":"т.3!D46/т.2!D47","v":7.5753878812873854},-1.1246121187126139]
[null,"НБ РС(Я)",223484,84118,-139366,7.6,{"$f":"т.3!D47/т.2!D48","v":2.860961839330658},-4.7390381606693417]
[null,"ЦДЮ НБ РС(Я)",70662,21431,-49231,13,{"$f":"т.3!D48/т.2!D49","v":3.9577100646352723},-9.0422899353647281]
[null,"РБС",12291,17456,5165,5.4,{"$f":"т.3!D49/т.2!D50","v":7.7375886524822697},2.3375886524822693]
[null,"ВСЕГО ",{"$f":"SUM(C46:C49)","v":4067580},{"$f":"SUM(D46:D49)","v":2492503},{"$f":"SUM(E46:E49)","v":-1575077},8.3000000000000007,{"$f":"т.3!D50/т.2!D51","v":7.1242461313317822},{"$f":"G50-F50","v":-1.1757538686682185}]
[null,"КДУ",175512,null,{"$f":"D51-C51","v":-175512},8.1,{"$f":"т.3!D51/т.2!C52","v":0},{"$f":"G51-F51","v":-8.1}]
[null,"Итого по РС(Я)",{"$f":"SUM(C50:C51)","v":4243092},{"$f":"SUM(D50:D51)","v":2492503},{"$f":"D52-C52","v":-1750589},8.3000000000000007,{"$f":"т.3!D52/т.2!D53","v":7.1242461313317822},{"$f":"G52-F52","v":-1.1757538686682185}]

{"sheet":"т.4","index":5,"n_rows":52,"n_cols":8,"rows_kept":52,"cut":false,"hidden":false,"merged":[[1,0,1,7],[2,5,2,6]]}
[null,null,null,null,null,null,null,"Таблица 4"]
["Движение библиотечного фонда ."]
[null,null,"Сост. на ","Поступило",null,"Выбыло",null,"Сост. на"]
["№","ЦБС","2020-01-01","(экз)","из них вновь приобрет. (экз).","(экз.)","из них без учета фонда з/б","2021-01-01"]
[1,"Абыйская",82846,1876,1876,2914,2914,{"$f":"C5+D5-F5","v":81808}]
[2,"Аллаиховская",76287,774,774,null,null,77061]
[3,"Амгинская",190910,7832,7832,7787,7787,190955]
[4,"Анабарская",23376,1004,1004,12,12,24368]
[5,"Булунская",145380,2128,2128,975,975,146533]
[6,"Верхневилюйская",234066,6162,6162,6332,6332,233896]
[7,"Верхнеколымская",110280,4474,4474,3807,3807,110947]
[8,"Верхоянская",214188,8343,8343,6364,6364,216167]
[9,"Вилюйская",263693,5112,5112,3585,3585,265220]
[10,"Горная",99036,3028,3028,843,843,101221]
[11,"Жиганская",54756,342,342,256,256,54842]
[12,"Кобяйская",194450,5068,5068,3087,3087,196431]
[13,"Ленская",200495,11304,11304,8459,8459,203340]
[14,"Момская",86376,916,916,1040,1040,86252]
[15,"Намская",216953,10261,10261,17757,17757,209457]
[16,"Нижнеколымская",99756,1552,1514,1417,1417,99891]
[17,"Нюрбинская",327249,4156,4156,4525,4525,326880]
[18,"Оймяконская",117754,1214,1214,3087,3087,115881]
[19,"Олекминская",282591,4968,4968,7123,7123,280436]
[20,"Оленекская",78020,1130,1130,24404,24404,54746]
[21,"Среднеколымская",122128,3990,3990,3570,3570,122548]
[22,"Сунтарская*",200400,77651,8194,47032,47032,231019]
[23,"Таттинская",210794,5803,5803,5671,5671,210926]
[24,"Томпонская",177613,2513,2513,5489,5489,174637]
[25,"Усть-Алданская",413869,18557,18557,17821,17821,414605]
[26,"Усть-Майская",128217,3854,3854,4746,4746,127325]
[27,"Усть-Янская",169688,1316,1316,null,null,171004]
[28,"Хангаласская*",339641,32328,7579,40756,16007,331213]
[29,"Чурапчинская",270368,8304,8304,5697,5697,272975]
[30,"Мирнинская",243649,7532,7532,10368,10368,240813]
[31,"Нерюнгринская",141016,3900,3862,4750,4750,140166]
[32,"Эвено-Бытантайская",42342,481,481,500,500,42323]
[33,"Якутская",451880,37957,27214,30493,30493,459344]
[34,"Алданская*",53633,79375,6401,14246,4480,118762]
[35,"Мегино-Кангаласская*",104194,355392,5795,4065,4065,455521]
[36,"ГБ ГП \"г.Нерюнгри \"",115316,1831,1831,5130,5130,112017]
[37,"Сунтарская ДЮПБ",50356,null,null,50356]
[38,"Бердигестях ДБ",15444,318,318,null,null,15762]
[39,"Б-ка ГО \"п. Жатай\"",20603,251,251,78,78,{"$f":"C43+D43-F43","v":20776}]
[40,"Алданский БИЦ*",34530,1284,1284,1272,1272,{"$f":"C44+D44-F44","v":34542}]
[41,"Томмотский БИЦ*",40917,3113,3113,2677,2677,41353]
[null,"Итого по МБ",{"$f":"SUM(C5:C45)","v":6445060},727394,199798,358491,273620,6813963]
[null,"НБ РС(Я)",1633511,22167,22167,null,null,{"$f":"C47+D47-F47","v":1655678}]
[null,"ЦДЮ НБ РС(Я)",167116,3911,3911,null,null,{"$f":"C48+D48-F48","v":171027}]
[null,"РБС",139979,6630,6630,1031,1031,{"$f":"C49+D49-F49","v":145578}]
[null,"ВСЕГО ",{"$f":"SUM(C46:C49)","v":8385666},760102,232506,359522,274651,8786246]
[null,"КДУ",431906,null,null,431906]
[null,"Итого по РС(Я)",{"$f":"SUM(C50:C51)","v":8817572},760102,232506,791428,274651,8786246]

{"sheet":"т.4.1","index":6,"n_rows":52,"n_cols":7,"rows_kept":52,"cut":false,"hidden":false,"merged":[[1,0,1,6]]}
[null,null,null,null,null,null,"Таблица 4.1 "]
["Библиотечный фонд "]
[]
["№","ЦБС",2019,2020,"\"+  -\"","в городе","в сельск.местн."]
[1,"Абыйская",82846,81808,{"$f":"D5-C5","v":-1038},{"$f":" D5-G5","v":35979},45829]
[2,"Аллаиховская",76287,77061,{"$f":"D6-C6","v":774},{"$f":" D6-G6","v":47814},29247]
[3,"Амгинская",190910,190955,45,{"$f":" D7-G7","v":0},190955]
[4,"Анабарская",23376,24368,992,0,24368]
[5,"Булунская",145380,146533,1153,68231,78302]
[6,"Верхневилюйская",234066,233896,-170,0,233896]
[7,"Верхнеколымская",110280,110947,667,64373,46574]
[8,"Верхоянская",214188,216167,1979,94022,122145]
[9,"Вилюйская",263693,265220,1527,87887,177333]
[10,"Горная",99036,101221,2185,0,101221]
[11,"Жиганская",54756,54842,86,0,54842]
[12,"Кобяйская",194450,196431,1981,47959,148472]
[13,"Ленская",200495,203340,2845,117263,86077]
[14,"Момская",86376,86252,-124,0,86252]
[15,"Намская",216953,209457,-7496,0,209457]
[16,"Нижнеколымская",99756,99891,135,69409,30482]
[17,"Нюрбинская",327249,326880,-369,86859,240021]
[18,"Оймяконская",117754,115881,-1873,42703,73178]
[19,"Олекминская",282591,280436,-2155,68106,212330]
[20,"Оленекская",78020,54746,-23274,0,54746]
[21,"Среднеколымская",122128,122548,420,51256,71292]
[22,"Сунтарская*",200400,231019,30619,0,231019]
[23,"Таттинская",210794,210926,132,0,210926]
[24,"Томпонская",177613,174637,-2976,73611,101026]
[25,"Усть-Алданская",413869,414605,736,0,414605]
[26,"Усть-Майская",128217,127325,-892,83586,43739]
[27,"Усть-Янская",169688,171004,1316,84553,86451]
[28,"Хангаласская",339641,331213,-8428,111894,219319]
[29,"Чурапчинская",270368,272975,2607,0,272975]
[30,"Мирнинская",243649,240813,-2836,198393,42420]
[31,"Нерюнгринская",141016,140166,-850,117730,22436]
[32,"Эвено-Бытантайская",42342,42323,-19,0,42323]
[33,"Якутская",451880,459344,{"$f":"D37-C37","v":7464},{"$f":" D37-G37","v":397942},61402]
[34,"Алданская*",53633,118762,{"$f":"D38-C38","v":65129},{"$f":" D38-G38","v":83660},35102]
[35,"Мегино-Кангаласская*",104194,455521,{"$f":"D39-C39","v":351327},{"$f":" D39-G39","v":13547},441974]
[36,"ГБ ГП \"г.Нерюнгри \"",115316,112017,-3299,112017,0]
[37,"Сунтарская ДЮПБ",50356,null,-50356,0]
[38,"Бердигестях ДБ",15444,15762,null,{"$f":" D42-G42","v":0},15762]
[39,"Б-ка ГО \"п. Жатай\"",20603,20776,{"$f":"D43-C43","v":173},20776,0]
[40,"Алданский БИЦ*",34530,34542,null,{"$f":" D44-G44","v":27858},6684]
[41,"Томмотский БИЦ*",40917,41353,null,35988,5365]
[null,"Итого по МБ",{"$f":"SUM(C5:C45)","v":6445060},{"$f":"SUM(D5:D45)","v":6813963},368903,{"$f":"SUM(F5:F45)","v":2243416},{"$f":"SUM(G5:G45)","v":4570547}]
[null,"НБ РС(Я)",1633511,1655678,22167,1655678,0]
[null,"ЦДЮ НБ РС(Я)",167116,171027,3911,171027,0]
[null,"РБС",139979,145578,5599,145578,0]
[null,"ВСЕГО ",{"$f":"SUM(C46:C49)","v":8385666},{"$f":"SUM(D46:D49)","v":8786246},400580,{"$f":"SUM(F46:F49)","v":4215699},{"$f":"SUM(G46:G49)","v":4570547}]
[null,"КДУ",431906,null,{"$f":"D51-C51","v":-431906},{"$f":"D51-G51","v":0}]
[null,"Итого по РС(Я)",{"$f":"SUM(C50:C51)","v":8817572},{"$f":"SUM(D50:D51)","v":8786246},{"$f":"SUM(E50:E51)","v":-31326},{"$f":"SUM(F50:F51)","v":4215699},{"$f":"SUM(G50:G51)","v":4570547}]

{"sheet":"т.4.2","index":7,"n_rows":51,"n_cols":12,"rows_kept":51,"cut":false,"hidden":false,"merged":[[1,0,1,10],[2,4,2,6],[2,8,3,8]]}
[null,null,null,null,null,null,null,null,null,"Таблица 4.2"]
["Новые поступления в библиотечный фонд (экз.)"]
[null,null,null,null,"в том числе",null,null,null,"спец.","на яз.","на"]
["№","ЦБС",2019,2020,"печ.изд.","из них","эл.док.","док. на",null,"нар.РФ","иностр.","\"+  -\""]
[null,null,null,null,"неопуб.","книг","съемн","др.вид.","док.","кр.рус.яз.","яз."]
[1,"Абыйская",2063,1876,1873,1290,3,null,null,1014,null,{"$f":"D6-C6","v":-187}]
[2,"Аллаиховская",1019,774,774,682,null,null,null,281,null,-245]
[3,"Амгинская",8685,7832,7780,3497,52,null,15,1643,null,-853]
[4,"Анабарская",560,1004,971,947,33,null,82,287,null,444]
[5,"Булунская",1532,2128,2120,1443,8,null,null,654,null,596]
[6,"Верхневилюйская",16901,6162,6098,4091,58,6,14,3944,null,-10739]
[7,"Верхнеколымская",4650,4474,4474,1898,null,null,null,666,null,-176]
[8,"Верхоянская",9011,8343,8324,4711,null,19,null,2800,null,-668]
[9,"Вилюйская",6492,5112,5086,4476,26,null,null,2096,null,-1380]
[10,"Горная",3607,3028,3028,1640,null,null,null,1459,null,-579]
[11,"Жиганская",2785,342,337,241,5,null,null,8,null,-2443]
[12,"Кобяйская",5851,5068,5068,2688,null,null,null,2230,null,-783]
[13,"Ленская",13615,11304,11304,5503,null,null,null,924,null,-2311]
[14,"Момская",1111,916,916,523,null,null,null,318,null,-195]
[15,"Намская",13891,10261,10260,4332,1,null,null,1676,null,-3630]
[16,"Нижнеколымская",2233,1514,1514,35,null,null,null,null,null,-719]
[17,"Нюрбинская",5050,4156,4150,1984,6,null,null,2043,null,-894]
[18,"Оймяконская",1555,1214,1214,1104,null,null,null,619,null,-341]
[19,"Олекминская",11027,4968,4848,3550,120,null,null,1332,null,-6059]
[20,"Оленекская",1506,1130,1130,1130,null,null,null,204,null,-376]
[21,"Среднеколымская",4864,3990,3990,1457,null,null,null,762,null,-874]
[22,"Сунтарская*",11004,8194,8175,5445,19,null,null,3877,24,-2810]
[23,"Таттинская",8804,5803,5802,2355,1,null,null,2318,4,-3001]
[24,"Томпонская",5791,2513,2513,1964,null,null,null,619,null,-3278]
[25,"Усть-Алданская",21876,18557,18557,4771,null,null,null,4064,null,-3319]
[26,"Усть-Майская",4110,3854,3854,1468,null,null,null,210,null,-256]
[27,"Усть-Янская",1122,1316,1316,538,null,null,null,100,null,194]
[28,"Хангаласская",12138,7579,7578,3426,1,null,null,2062,3,-4559]
[29,"Чурапчинская",8552,8304,8294,3127,10,null,null,3369,null,-248]
[30,"Мирнинская",8989,7532,7532,3011,null,null,null,873,1,-1457]
[31,"Нерюнгринская",5092,3862,3862,2456,null,null,null,312,null,-1230]
[32,"Эвено-Бытантайская",588,481,481,375,null,null,null,249,null,-107]
[33,"Якутская",39545,27214,27212,14715,2,null,null,4609,7,{"$f":"D38-C38","v":-12331}]
[34,"Алданская*",22586,6401,5953,4400,448,null,null,297,null,{"$f":"D39-C39","v":-16185}]
[35,"Мег.-Кангаласская*",1457,5795,5793,4944,2,null,null,2601,null,{"$f":"D40-C40","v":4338}]
[36,"ГБ ГП \"г.Нерюнгри \"",4265,1831,1831,581,null,null,null,79,null,-2434]
[37,"Сунтарская ДЮПБ",1166,null,null,null,null,null,null,null,null,-1166]
[38,"Бердигестях ДБ",1521,318,318,308,null,null,null,142,null,-1203]
[39,"Б-ка ГО \"п. Жатай\"",233,251,251,244,null,null,null,5,null,{"$f":"D44-C44","v":18}]
[40,"Алданский БИЦ*",null,1284,1284,690,null,null,116,24,null,1284]
[41,"Томмотский БИЦ*",null,3113,3113,1709,null,null,null,72,null,3113]
[null,"Итого по МБ",{"$f":"SUM(C6:C46)","v":276847},199798,198978,103749,795,25,227,50842,39,-77049]
[null,"НБ РС(Я)",21121,22167,22149,14673,14,4,null,2089,68,1046]
[null,"ЦДЮ НБ РС(Я)",6249,3911,3911,1676,null,null,null,373,16,-2338]
[null,"РБС",6310,6630,1460,776,3510,1660,6121,165,null,320]
[null,"ВСЕГО ",{"$f":"SUM(C47:C50)","v":310527},{"$f":"SUM(D47:D50)","v":232506},226498,{"$f":"SUM(F47:F50)","v":120874},4319,{"$f":"SUM(H47:H50)","v":1689},{"$f":"SUM(I47:I50)","v":6348},53469,{"$f":"SUM(K44:K50)","v":123},-78021]

{"sheet":"т.5","index":8,"n_rows":47,"n_cols":6,"rows_kept":47,"cut":false,"hidden":false,"merged":[[1,0,1,5]]}
[null,null,null,null,null,"Таблица 5"]
["Относительные показатели библиотек республики"]
[]
["№","ЦБС","Документообесп.\n жителей","Документообесп.\n польз.","Обращаемость\nбибл.фонда","Обновляемость\nбибл.фонда"]
[1,"Абыйская",{"$f":"(т.4!H5/т.1!C8)/1000","v":20.452000000000002},{"$f":"'т.4.1'!D5/т.2!D6","v":45.322991689750694},{"$f":"т.6!D5/'т.4.1'!D5","v":0.38750488949735967},{"$f":"'[1]т.4.2'!D6/'т.4.1'!D5*100","v":2.1966066888323881}]
[2,"Аллаиховская",{"$f":"(т.4!H6/т.1!C9)/1000","v":28.54111111111111},{"$f":"'т.4.1'!D6/т.2!D7","v":102.06754966887418},{"$f":"т.6!D6/'т.4.1'!D6","v":0.20686209626140331},{"$f":"'т.4.2'!D7/'т.4.1'!D6*100","v":1.0043991123914822}]
[3,"Амгинская",{"$f":"(т.4!H7/т.1!C10)/1000","v":11.366369047619047},{"$f":"'т.4.1'!D7/т.2!D8","v":25.8012430752601},{"$f":"т.6!D7/'т.4.1'!D7","v":0.64622031368647059},{"$f":"'т.4.2'!D8/'т.4.1'!D7*100","v":4.1014898798146158}]
[4,"Анабарская",{"$f":"(т.4!H8/т.1!C11)/1000","v":6.5859459459459462},{"$f":"'т.4.1'!D8/т.2!D9","v":13.031016042780749},{"$f":"т.6!D8/'т.4.1'!D8","v":0.8943286277084701},{"$f":"'т.4.2'!D9/'т.4.1'!D8*100","v":4.1201575837163498}]
[5,"Булунская",{"$f":"(т.4!H9/т.1!C12)/1000","v":17.239176470588234},{"$f":"'т.4.1'!D9/т.2!D10","v":25.125685871056241},{"$f":"т.6!D9/'т.4.1'!D9","v":0.7733138610415401},{"$f":"'т.4.2'!D10/'т.4.1'!D9*100","v":1.4522326028949111}]
[6,"Верхневилюйская*",{"$f":"(т.4!H10/т.1!C13)/1000","v":11.137904761904762},{"$f":"'т.4.1'!D10/т.2!D11","v":28.579667644183772},{"$f":"т.6!D10/'т.4.1'!D10","v":0.63956630297226114},{"$f":"'т.4.2'!D11/'т.4.1'!D10*100","v":2.6345042240995995}]
[7,"Верхнеколымская",{"$f":"(т.4!H11/т.1!C14)/1000","v":27.736750000000001},{"$f":"'т.4.1'!D11/т.2!D12","v":31.235078828828829},{"$f":"т.6!D11/'т.4.1'!D11","v":0.75297213985055933},{"$f":"'т.4.2'!D12/'т.4.1'!D11*100","v":4.0325560853380447}]
[8,"Верхоянская",{"$f":"(т.4!H12/т.1!C15)/1000","v":19.474504504504505},{"$f":"'т.4.1'!D12/т.2!D13","v":58.376181474480148},{"$f":"т.6!D12/'т.4.1'!D12","v":0.29071504901303158},{"$f":"'т.4.2'!D13/'т.4.1'!D12*100","v":3.8595160223345837}]
[9,"Вилюйская",{"$f":"(т.4!H13/т.1!C16)/1000","v":10.608799999999999},{"$f":"'т.4.1'!D13/т.2!D14","v":27.464015739877809},{"$f":"т.6!D13/'т.4.1'!D13","v":0.72164618052937179},{"$f":"'т.4.2'!D14/'т.4.1'!D13*100","v":1.9274564512480206}]
[10,"Горная",{"$f":"(т.4!H14/т.1!C17)/1000","v":8.3653719008264478},{"$f":"'т.4.1'!D14/т.2!D15","v":17.655852084423515},{"$f":"т.6!D14/'т.4.1'!D14","v":0.815374280040703},{"$f":"'т.4.2'!D15/'т.4.1'!D14*100","v":2.9914741012240542}]
[11,"Жиганская",{"$f":"(т.4!H15/т.1!C18)/1000","v":13.376097560975612},{"$f":"'т.4.1'!D15/т.2!D16","v":14.278052590471232},{"$f":"т.6!D15/'т.4.1'!D15","v":0.69366543889719556},{"$f":"'т.4.2'!D16/'т.4.1'!D15*100","v":0.62360964224499471}]
[12,"Кобяйская",{"$f":"(т.4!H16/т.1!C19)/1000","v":16.233966942148761},{"$f":"'т.4.1'!D16/т.2!D17","v":23.114968227818309},{"$f":"т.6!D16/'т.4.1'!D16","v":0.6825908334224231},{"$f":"'т.4.2'!D17/'т.4.1'!D16*100","v":2.5800408285861192}]
[13,"Ленская",{"$f":"(т.4!H17/т.1!C20)/1000","v":5.6016528925619831},{"$f":"'т.4.1'!D17/т.2!D18","v":21.174632927210247},{"$f":"т.6!D17/'т.4.1'!D17","v":0.71631257991541264},{"$f":"'т.4.2'!D18/'т.4.1'!D17*100","v":5.559161994688699}]
[14,"Момская",{"$f":"(т.4!H18/т.1!C21)/1000","v":21.562999999999999},{"$f":"'т.4.1'!D18/т.2!D19","v":41.467307692307692},{"$f":"т.6!D18/'т.4.1'!D18","v":0.38802578490933542},{"$f":"'т.4.2'!D19/'т.4.1'!D18*100","v":1.0620043593192041}]
[15,"Намская",{"$f":"(т.4!H19/т.1!C22)/1000","v":8.4119277108433739},{"$f":"'т.4.1'!D19/т.2!D20","v":30.506408389163997},{"$f":"т.6!D19/'т.4.1'!D19","v":0.46137870780160128},{"$f":"'т.4.2'!D20/'т.4.1'!D19*100","v":4.898857522068969}]
[16,"Нижнеколымская",{"$f":"(т.4!H20/т.1!C23)/1000","v":23.230465116279074},{"$f":"'т.4.1'!D20/т.2!D21","v":42.148101265822788},{"$f":"т.6!D20/'т.4.1'!D20","v":0.32610545494589099},{"$f":"'т.4.2'!D21/'т.4.1'!D20*100","v":1.5156520607462134}]
[17,"Нюрбинская",{"$f":"(т.4!H21/т.1!C24)/1000","v":13.850847457627118},{"$f":"'т.4.1'!D21/т.2!D22","v":16.982543640897756},{"$f":"т.6!D21/'т.4.1'!D21","v":0.53961698482623588},{"$f":"'т.4.2'!D22/'т.4.1'!D21*100","v":1.2714145863925599}]
[18,"Оймяконская",{"$f":"(т.4!H22/т.1!C25)/1000","v":14.668481012658228},{"$f":"'т.4.1'!D22/т.2!D23","v":40.688553370786515},{"$f":"т.6!D22/'т.4.1'!D22","v":0.47185474754273782},{"$f":"'т.4.2'!D23/'т.4.1'!D22*100","v":1.047626444369655}]
[19,"Олекминская",{"$f":"(т.4!H23/т.1!C26)/1000","v":11.446367346938775},{"$f":"'т.4.1'!D23/т.2!D24","v":34.63883399209486},{"$f":"т.6!D23/'т.4.1'!D23","v":0.49118872042105866},{"$f":"'т.4.2'!D24/'т.4.1'!D23*100","v":1.7715271933703234}]
[20,"Оленекская",{"$f":"(т.4!H24/т.1!C27)/1000","v":13.034761904761904},{"$f":"'т.4.1'!D24/т.2!D25","v":17.35213946117274},{"$f":"т.6!D24/'т.4.1'!D24","v":0.59573302159061847},{"$f":"'т.4.2'!D25/'т.4.1'!D24*100","v":2.0640777408395135}]
[21,"Среднеколымская",{"$f":"(т.4!H25/т.1!C28)/1000","v":16.787397260273973},{"$f":"'т.4.1'!D25/т.2!D26","v":29.219837863614689},{"$f":"т.6!D25/'т.4.1'!D25","v":0.28836047915918661},{"$f":"'т.4.2'!D26/'т.4.1'!D25*100","v":3.2558670888141785}]
[22,"Сунтарская",{"$f":"(т.4!H26/т.1!C29)/1000","v":9.8726068376068383},{"$f":"'т.4.1'!D26/т.2!D27","v":15.799411845164821},{"$f":"т.6!D26/'т.4.1'!D26","v":0.83290551859370876},{"$f":"'т.4.2'!D27/'т.4.1'!D26*100","v":3.5468944112821887}]
[23,"Таттинская",{"$f":"(т.4!H27/т.1!C30)/1000","v":13.020123456790124},{"$f":"'т.4.1'!D27/т.2!D28","v":22.429391748192259},{"$f":"т.6!D27/'т.4.1'!D27","v":0.91923707840664504},{"$f":"'т.4.2'!D28/'т.4.1'!D27*100","v":2.7512018433004939}]
[24,"Томпонская",{"$f":"(т.4!H28/т.1!C31)/1000","v":13.97096},{"$f":"'т.4.1'!D28/т.2!D29","v":27.870571337376315},{"$f":"т.6!D28/'т.4.1'!D28","v":0.675721639744155},{"$f":"'т.4.2'!D29/'т.4.1'!D28*100","v":1.4389848657500988}]
[25,"Усть-Алданская",{"$f":"(т.4!H29/т.1!C32)/1000","v":20.224634146341465},{"$f":"'т.4.1'!D29/т.2!D30","v":21.08983162927921},{"$f":"т.6!D29/'т.4.1'!D29","v":0.74634652259379408},{"$f":"'т.4.2'!D30/'т.4.1'!D29*100","v":4.4758263889726368}]
[26,"Усть-Майская",{"$f":"(т.4!H30/т.1!C33)/1000","v":16.976666666666667},{"$f":"'т.4.1'!D30/т.2!D31","v":25.592964824120603},{"$f":"т.6!D30/'т.4.1'!D30","v":1.0884822305124682},{"$f":"'т.4.2'!D31/'т.4.1'!D30*100","v":3.0268996662085215}]
[27,"Усть-Янская",{"$f":"(т.4!H31/т.1!C34)/1000","v":24.42914285714286},{"$f":"'т.4.1'!D31/т.2!D32","v":42.16074950690335},{"$f":"т.6!D31/'т.4.1'!D31","v":0.43832308016186755},{"$f":"'т.4.2'!D32/'т.4.1'!D31*100","v":0.76957264157563565}]
[28,"Хангаласская",{"$f":"(т.4!H32/т.1!C35)/1000","v":10.09795731707317},{"$f":"'т.4.1'!D32/т.2!D33","v":14.809434384082271},{"$f":"т.6!D32/'т.4.1'!D32","v":0.58925223345702016},{"$f":"'т.4.2'!D33/'т.4.1'!D32*100","v":2.2882555938323677}]
[29,"Чурапчинская",{"$f":"(т.4!H33/т.1!C36)/1000","v":12.998809523809523},{"$f":"'т.4.1'!D33/т.2!D34","v":28.571802386434999},{"$f":"т.6!D33/'т.4.1'!D33","v":0.64208077662789631},{"$f":"'т.4.2'!D34/'т.4.1'!D33*100","v":3.0420368165582929}]
[30,"Мирнинская",{"$f":"(т.4!H34/т.1!C37)/1000","v":3.335360110803324},{"$f":"'т.4.1'!D34/т.2!D35","v":16.831830572447053},{"$f":"т.6!D34/'т.4.1'!D34","v":1.1497801198440283},{"$f":"'т.4.2'!D35/'т.4.1'!D34*100","v":3.1277381204503083}]
[31,"Нерюнгринская",{"$f":"(т.4!H35/т.1!C38)/1000","v":1.8966982408660353},{"$f":"'т.4.1'!D35/т.2!D36","v":10.663065804488399},{"$f":"т.6!D35/'т.4.1'!D35","v":1.9878215829801806},{"$f":"'т.4.2'!D36/'т.4.1'!D35*100","v":2.7553044247535063}]
[32,"Якутская*",{"$f":"(т.4!H36/т.1!C39)/1000","v":15.115357142857142},{"$f":"'т.4.1'!D36/т.2!D37","v":43.631958762886597},{"$f":"т.6!D36/'т.4.1'!D36","v":0.32029865557734566},{"$f":"'т.4.2'!D37/'т.4.1'!D36*100","v":1.1364978853105876}]
[33,"Эвено-Бытантайская",{"$f":"(т.4!H37/т.1!C40)/1000","v":1.3522048866647043},{"$f":"'т.4.1'!D37/т.2!D38","v":13.438970157987127},{"$f":"т.6!D37/'т.4.1'!D37","v":1.2238474868508133},{"$f":"'т.4.2'!D37/'т.4.1'!D36*100","v":1.1364978853105876}]
[34,"Алданский",{"$f":"(т.4!H38/т.1!C41)/1000","v":3.037391304347826},{"$f":"'т.4.1'!D38/т.2!D39","v":13.755154042158907},{"$f":"т.6!D38/'т.4.1'!D38","v":1.2528923393004496},{"$f":"'т.4.2'!D39/'т.4.1'!D38*100","v":5.3897711389164886}]
[35,"М.-Кангаласская",{"$f":"(т.4!H39/т.1!C42)/1000","v":14.741779935275082},{"$f":"'т.4.1'!D39/т.2!D40","v":30.575983353470264},{"$f":"т.6!D39/'т.4.1'!D39","v":0.45081126885478384},{"$f":"'т.4.2'!D40/'т.4.1'!D39*100","v":1.2721696694554148}]
[36,"ГБ ГП \"г.Нерюнгри\"",null,{"$f":"'т.4.1'!D40/т.2!D41","v":16.468244633931196},{"$f":"т.6!D40/'т.4.1'!D40","v":0.71615022719765753},{"$f":"'т.4.2'!D41/'т.4.1'!D40*100","v":1.6345733236919395}]
[38,"Бердигестях ДБ",null,{"$f":"'т.4.1'!D42/т.2!D43","v":12.866938775510205},{"$f":"т.6!D42/'т.4.1'!D42","v":1.5551325973861185},{"$f":"'т.4.2'!D43/'т.4.1'!D42*100","v":2.0175104682146934}]
[39,"Б-ка ГО \"Жатай\"",{"$f":"(т.4!H43/т.1!C46)/1000","v":2.0170873786407766},{"$f":"'т.4.1'!D43/т.2!D44","v":13.207883026064843},{"$f":"т.6!D43/'т.4.1'!D43","v":1.2963515594917212},{"$f":"'т.4.2'!D44/'т.4.1'!D43*100","v":1.2081247593376974}]
[null,"Алданский БИЦ",null,{"$f":"'т.4.1'!D44/т.2!D45","v":11.12463768115942},{"$f":"т.6!D44/'т.4.1'!D44","v":1.7739852932661688},{"$f":"'т.4.2'!D45/'т.4.1'!D44*100","v":3.7172138266458226}]
[null,"Томмотский БИЦ",null,{"$f":"'т.4.1'!D45/т.2!D46","v":11.003991484832358},{"$f":"т.6!D45/'т.4.1'!D45","v":1.6401712088603004},{"$f":"'т.4.2'!D46/'т.4.1'!D45*100","v":7.527869803883636}]
[null,"Итого по МБ",{"$f":"(т.4!H46/т.1!C49)/1000","v":7.0109712933429353},{"$f":"'т.4.1'!D46/т.2!D47","v":21.784535261789898},{"$f":"т.6!D46/'т.4.1'!D46","v":0.72456659949577062},{"$f":"'т.4.2'!D47*100/'т.4.1'!D46","v":2.9321849854482624}]
[null,"НБ РС(Я)",null,{"$f":"'т.4.1'!D47/т.2!D48","v":56.311747500170057},{"$f":"т.6!D47/'т.4.1'!D47","v":1.846319151429203},{"$f":"'т.4.2'!D48*100/'т.4.1'!D47","v":1.3388472879388384}]
[null,"ВСЕГО ",{"$f":"(т.4!H50/т.1!C53)/1000","v":9.0402778063586773},{"$f":"'т.4.1'!D52/т.2!D53","v":25.113461879255251},{"$f":"т.6!D50/'т.4.1'!D50","v":0.92453933113186226},{"$f":"'т.4.2'!D51*100/'т.4.1'!D50","v":2.6462496042109453}]

{"sheet":"т.6","index":9,"n_rows":52,"n_cols":7,"rows_kept":52,"cut":false,"hidden":false,"merged":[[1,0,1,6]]}
[null,null,null,null,null,"Таблица 6"]
["Выдача документов из фондов библиотек"]
[]
["№","ЦБС",2019,2020,"\"+  -\"","в городе","на селе."]
[1,"Абыйская",98540,31701,{"$f":" D5 - C5","v":-66839},{"$f":"D5 - G5","v":20481},11220]
[2,"Аллаиховская",45580,15941,-29639,11283,4658]
[3,"Амгинская",256921,123399,-133522,{"$f":"D7-G7","v":0},123399]
[4,"Анабарская",27417,21793,-5624,{"$f":"D8-G8","v":0},21793]
[5,"Булунская",149130,113316,-35814,74781,38535]
[6,"Верхневилюйская",322624,149592,-173032,{"$f":"D10-G10","v":0},149592]
[7,"Верхнеколымская",108371,83540,-24831,57914,25626]
[8,"Верхоянская",188929,62843,-126086,31252,31591]
[9,"Вилюйская",343720,191395,-152325,110757,80638]
[10,"Горная",170981,82533,-88448,0,82533]
[11,"Жиганская",67356,38042,-29314,0,38042]
[12,"Кобяйская",223865,134082,-89783,75851,58231]
[13,"Ленская",337492,145655,-191837,105132,40523]
[14,"Момская",49120,33468,-15652,0,33468]
[15,"Намская",367839,96639,-271200,{"$f":"D19-G19","v":0},96639]
[16,"Нижнеколымская",99938,32575,-67363,26964,5611]
[17,"Нюрбинская",378164,176390,-201774,41271,135119]
[18,"Оймяконская",101898,54679,-47219,34077,20602]
[19,"Олекминская",302199,137747,-164452,51849,85898]
[20,"Оленекская",36552,32614,-3938,0,32614]
[21,"Среднеколымская",61746,35338,-26408,15316,20022]
[22,"Сунтарская*",241851,192417,-49434,0,192417]
[23,"Таттинская",231123,193891,-37232,0,193891]
[24,"Томпонская",161474,118006,-43468,42828,75178]
[25,"Усть-Алданская",418135,309439,-108696,0,309439]
[26,"Усть-Майская",151021,138591,-12430,103824,34767]
[27,"Усть-Янская",171141,74955,-96186,36243,38712]
[28,"Хангаласская*",417172,195168,-222004,88002,107166]
[29,"Чурапчинская",349010,175272,-173738,0,175272]
[30,"Мирнинская",542360,276882,-265478,265069,11813]
[31,"Нерюнгринская",300204,278625,-21579,246045,32580]
[32,"Эвено-Бытантайcкая",39026,13556,-25470,0,13556]
[33,"Якутская",1403386,562167,{"$f":" D37 - C37","v":-841219},{"$f":"D37 - G37","v":504352},57815]
[34,"Алданская*",294094,148796,{"$f":" D38 - C38","v":-145298},{"$f":"D38 - G38","v":136949},11847]
[35,"Мегино-Кангаласская*",135757,205354,{"$f":" D39 - C39","v":69597},{"$f":"D39 - G39","v":9791},195563]
[36,"ГБ ГП \"г.Нерюнгри \"",155768,80221,-75547,80221,0]
[37,"Сунтарская ДЮПБ",50115,null,-50115,0]
[38,"Бердигестях ДБ",46686,24512,null,0,24512]
[39,"Б-ка ГО \"п. Жатай\"",55960,26933,{"$f":" D43 - C43","v":-29027},26933,0]
[40,"Алданский БИЦ*",null,61277,{"$f":" D44 - C44","v":61277},{"$f":"D44 - G44","v":59173},2104]
[41,"Томмотский БИЦ*",null,67826,67826,63432,4394]
[null,"Итого по МБ",{"$f":"SUM(C5:C45)","v":8902665},{"$f":"SUM(D5:D45)","v":4937170},-3965495,2319790,{"$f":"SUM(G5:G45)","v":2617380}]
[null,"НБ РС(Я)",1167719,3056910,1889191,3056910,0]
[null,"ЦДЮ НБ РС(Я)",193025,65725,-127300,65725,0]
[null,"РБС",83555,63425,-20130,63425,0]
[null,"ВСЕГО ",{"$f":"SUM(C46:C49)","v":10346964},{"$f":"SUM(D46:D49)","v":8123230},-2223734,{"$f":"SUM(F46:F49)","v":5505850},{"$f":"SUM(G46:G49)","v":2617380}]
[null,"КДУ",376086,null,{"$f":"D51-C51","v":-376086},{"$f":"D51-G51","v":0}]
[null,"Итого по РС(Я)",{"$f":"SUM(C50:C51)","v":10723050},{"$f":"SUM(D50:D51)","v":8123230},{"$f":"D52-C52","v":-2599820},{"$f":"D52-G52","v":5505850},{"$f":"SUM(G50:G51)","v":2617380}]

{"sheet":"т.6.1","index":10,"n_rows":53,"n_cols":8,"rows_kept":53,"cut":false,"hidden":false,"merged":[[1,0,1,6],[3,4,3,7],[3,0,4,0],[3,1,4,1],[3,2,4,2],[3,3,4,3]]}
[null,null,null,null,null,null,"Таблица 6.1"]
["Выдача документов из фондов библиотек"]
[]
["№","ЦБС",2019,2020,"в том числе"]
[null,null,null,null,"из фонда на физ. нос.","из ЭБ","инсталл. док.","сетев. удал. лиц. док."]
[1,"Абыйская",98540,31701,31701]
[2,"Аллаиховская",45580,15941,15941]
[3,"Амгинская",256921,123399,120240,300,null,2859]
[4,"Анабарская",27417,21793,21770,23]
[5,"Булунская",149130,113316,113316]
[6,"Верхневилюйская",322624,149592,149223,108,246,15]
[7,"Верхнеколымская",108371,83540,83122,null,238,180]
[8,"Верхоянская",188929,62843,62815,null,28]
[9,"Вилюйская",343720,191395,179811,11584]
[10,"Горная",170981,82533,81280,null,30,1223]
[11,"Жиганская",67356,38042,38042]
[12,"Кобяйская",223865,134082,129470,4356,null,256]
[13,"Ленская",337492,145655,143405,null,null,2250]
[14,"Момская",49120,33468,33468]
[15,"Намская",367839,96639,96636,null,3]
[16,"Нижнеколымская",99938,32575,32575]
[17,"Нюрбинская",378164,176390,176390]
[18,"Оймяконская",101898,54679,54679]
[19,"Олекминская",302199,137747,137742,null,5]
[20,"Оленекская",36552,32614,32614]
[21,"Среднеколымская",61746,35338,35338]
[22,"Сунтарская*",241851,192417,191768,32,7,610]
[23,"Таттинская",231123,193891,189541,3117,5,1228]
[24,"Томпонская",161474,118006,114003,3538,null,465]
[25,"Усть-Алданская",418135,309439,287873,21182,384]
[26,"Усть-Майская",151021,138591,138591]
[27,"Усть-Янская",171141,74955,74955]
[28,"Хангаласская*",417172,195168,135425,58996,385,362]
[29,"Чурапчинская",349010,175272,175272]
[30,"Мирнинская",542360,276882,274765,null,802,1315]
[31,"Нерюнгринская",300204,278625,262261,3989,461,11914]
[32,"Эвено-Бытантайcкая",39026,13556,13556]
[33,"Якутская",1403386,562167,549594,null,89,12484]
[34,"Алданская*",294094,148796,140709,6584,681,822]
[35,"Мег.-Кангаласская*",135757,205354,205354]
[36,"ГБ ГП \"г.Нерюнгри \"",155768,80221,74504,null,5705,12]
[37,"Сунтарская ДЮПБ*",50115]
[38,"Бердигестях ДБ",46686,24512,24485,null,null,27]
[39,"Б-ка ГО \"п. Жатай\"",55960,26933,26933]
[40,"Алданский БИЦ*",null,61277,61277]
[41,"Томмотский БИЦ*",null,67826,67826]
[null,"Итого по МБ",{"$f":"SUM(C6:C46)","v":8902665},4937170,4778270,113809,9069,36022]
[null,"НБ РС(Я)",1167719,3056910,156974,2858939,1071,39926]
[null,"ЦДЮ НБ РС(Я)",193025,65725,65725]
[null,"РБС",83555,63425,26654,24851,null,11920]
[null,"ВСЕГО ",{"$f":"SUM(C47:C50)","v":10346964},8123230,5027623,2997599,10140,87868]
[null,"КДУ",376086]
[null,"Итого по РС(Я)",{"$f":"SUM(C51:C52)","v":10723050},8123230,5027623,2997599,10140,87868]

{"sheet":"т.7","index":11,"n_rows":46,"n_cols":8,"rows_kept":46,"cut":false,"hidden":false,"merged":[[1,0,1,7],[2,0,2,7]]}
[null,null,null,null,null,null,"Таблица 7"]
["Общие сведения."]
["Характеристика помещений библиотек республики."]
[]
["№","ЦБС","Кол-во\nбиб-к всего","Общая\nплощадь\n(кв.м.)","требуют\nкап.ремонт\n(ед.)","аварий-\nных\n(ед.)","арендо-\nванных\n(ед.)","прочие"]
[1,"Абыйская ",7,692.5]
[2,"Аллаиховская ",6,401.3,1]
[3,"Амгинская ",16,1365.7]
[4,"Анабарская ",3,214.2]
[5,"Булунская ",8,822.2,6]
[6,"Верхневилюйская",23,2336.1999999999998]
[7,"Верхнеколымская ",7,1255.2,1,null,1]
[8,"Верхоянская ",17,1222.2,1]
[9,"Вилюйская ",24,1638.2,null,2,1]
[10,"Горная",9,856.3,1]
[11,"Жиганская ",5,270.8]
[12,"Кобяйская ",17,1516.3,null,null,13]
[13,"Ленская ",21,2378.6999999999998,null,null,5]
[14,"Момская ",7,591.9]
[15,"Намская ",20,1717.4,3,2]
[16,"Нижнеколымская ",6,336]
[17,"Нюрбинская",23,1656.3]
[18,"Оймяконская ",9,803.3,null,null,2]
[19,"Олекминская ",27,1491.6]
[20,"Оленекская ",5,374.9]
[21,"Среднеколымская ",11,588.5]
[22,"Сунтарская*",21,1687.4,null,1]
[23,"Таттинская ",15,1614.5,1,1]
[24,"Томпонская ",13,2202.6999999999998,null,null,1]
[25,"Усть-Алданская",28,2892.9,null,2]
[26,"Усть-Майская ",10,623.1,null,null,7]
[27,"Усть-Янская ",9,554.9,null,null,9]
[28,"Хангаласская*",24,2624.3,1,null,1]
[29,"Чурапчинская ",19,1609.8]
[30,"Мирнинская ",11,2720.3,1,null,8]
[31,"Нерюнгринская ",8,1523.3]
[32,"Эвено-Бытантайская ",3,167]
[33,"Якутская",18,8059.1,1,1,2]
[34,"Алданская*",9,1168,1,null,4]
[35,"Мегино-Кангаласская*",31,2678.1]
[36,"ГБ ГП \"г.Нерюнгри \"",1,1527.5]
[37,"Бердигестях ДБ",1,192.2]
[38,"Б-ка ГО \"п. Жатай\"",1,270]
[39,"Алданский БИЦ*",2,427.2,null,null,1]
[40,"Томмотский БИЦ*",3,345]
[null,"ВСЕГО:",{"$f":"SUM(C6:C45)","v":498},{"$f":"SUM(D6:D45)","v":55417},{"$f":"SUM(E6:E45)","v":18},{"$f":"SUM(F6:F45)","v":9},{"$f":"SUM(G6:G45)","v":55},{"$f":"SUM(H6:H43)","v":0}]

{"sheet":"т.8","index":12,"n_rows":52,"n_cols":10,"rows_kept":52,"cut":false,"hidden":false,"merged":[[1,0,1,9],[2,0,2,9],[3,6,3,9]]}
[null,null,null,null,null,null,null,null,"Таблица 8"]
["Материально-техническая база библиотек республики."]
["Количество технических средств, средств связи."]
["№","ЦБС","Всего","число","число","число ","число библиотек, имеющих"]
[null,null,"кол-во","посад.","посад.","посад.","здание","спец.","Интернет","доступ"]
[null,null,"биб-к","мест","мест","мест","для лиц","оборуд.","сайт","в"]
[null,null,null,"для польз.","комп.","с Инт. ","с ОВЗ, пандус","для инвал.","или стр.","Инт."]
[1,"Абыйская ",7,74,9,9,2,2,1,7]
[2,"Аллаиховская ",6,56,3,3,null,null,1,6]
[3,"Амгинская ",16,138,27,25,7,1,2,16]
[4,"Анабарская ",3,25,3,3,null,1,1,3]
[5,"Булунская ",8,122,10,8,null,null,1,8]
[6,"Верхневилюйская",23,332,54,40,9,1,1,23]
[7,"Верхнеколымская ",7,116,17,12,3,2,1,7]
[8,"Верхоянская ",17,161,12,10,2,null,1,12]
[9,"Вилюйская ",24,211,29,20,12,null,1,23]
[10,"Горная ",9,93,14,11,2,null,1,9]
[11,"Жиганская ",5,37,6,6,null,null,1,5]
[12,"Кобяйская ",17,207,38,37,null,null,1,17]
[13,"Ленская ",21,196,22,22,6,null,1,21]
[14,"Момская ",7,54,7,6,1,null,null,6]
[15,"Намская ",20,231,39,34,12,1,1,19]
[16,"Нижнеколымская ",6,42,6,4,null,null,1,6]
[17,"Нюрбинская",23,212,24,22,23,null,1,22]
[18,"Оймяконская ",9,86,3,3,null,null,1,8]
[19,"Олекминская ",27,282,59,44,5,1,1,23]
[20,"Оленекская ",5,34,8,5,null,null,1,5]
[21,"Среднеколымская ",11,60,8,8,null,null,1,8]
[22,"Сунтарская* ",21,224,32,25,14,null,2,21]
[23,"Таттинская ",15,157,25,23,null,null,2,15]
[24,"Томпонская ",13,149,31,29,2,1,1,12]
[25,"Усть-Алданская ",28,339,59,39,10,2,2,28]
[26,"Усть-Майская ",10,56,3,3,null,null,1,10]
[27,"Усть-Янская ",9,57,2,2,null,null,1,3]
[28,"Хангаласская* ",24,250,58,41,6,null,2,19]
[29,"Чурапчинская ",19,206,34,22,null,null,1,14]
[30,"Мирнинская ",11,235,25,20,1,2,1,11]
[31,"Нерюнгринская ",8,143,31,30,4,null,8,7]
[32,"Эвено-Бытантайская ",3,10,1,1,null,null,1,3]
[33,"Якутская",18,657,117,114,10,6,1,18]
[34,"Алданская*",9,98,27,22,3,1,1,7]
[35,"Мег.-Кангаласская*",31,284,46,38,15,null,2,29]
[36,"ГБ ГП \"г.Нерюнгри \"",1,208,13,13,1,1,1,1]
[37,"Бердигестях ДБ",1,36,3,3,1,null,1,1]
[38,"Б-ка ГО \"п. Жатай\"",1,27,null,null,1,null,1,1]
[39,"Алданский БИЦ*",2,71,5,4,1,null,1,1]
[40,"Томмотский БИЦ*",3,69,9,9,null,null,2,3]
[null,"ИТОГО по МБ",{"$f":"SUM(C8:C47)","v":498},{"$f":"SUM(D8:D47)","v":6045},{"$f":"SUM(E8:E47)","v":919},{"$f":"SUM(F8:F47)","v":770},{"$f":"SUM(G8:G46)","v":153},{"$f":"SUM(H8:H45)","v":22},{"$f":"SUM(I8:I47)","v":53},{"$f":"SUM(J8:J47)","v":458}]
[null,"НБ РС(Я)",1,404,49,38,1,1,1,1]
[null,"ЦДЮ НБ РС(Я)",1,139,7,7,null,1,1,1]
[null,"РБС",1,16,8,8,null,1,1,1]
[null,"Итого по РС(Я)",{"$f":"SUM(C48:C51)","v":501},6604,983,{"$f":"SUM(F48:F51)","v":823},154,25,56,461]

{"sheet":"т.8.1","index":13,"n_rows":46,"n_cols":10,"rows_kept":46,"cut":false,"hidden":false,"merged":[[1,0,1,9],[2,0,2,9],[3,6,3,9],[0,8,0,9]]}
[null,null,null,null,null,null,null,null,"Таблица 8.1"]
["Материально-техническая база библиотек на селе."]
["Количество технических средств, средств связи."]
["№","ЦБС","Всего","число","число","число ","число библиотек, имеющих"]
[null,null,"кол-во","посад.","посад.","посад.","здание","спец.","Интернет","доступ"]
[null,null,"биб-к","мест","мест","мест","для лиц","оборуд.","сайт","в"]
[null,null,null,"для польз.","компьют.","с Инт. ","с ОВЗ, пандус","для инвал.",null,"Интернет"]
[1,"Абыйская ",5,48,5,5,null,null,null,5]
[2,"Аллаиховская ",4,30,null,null,null,null,null,4]
[3,"Амгинская ",16,138,27,25,7,1,2,16]
[4,"Анабарская ",3,25,3,3,null,1,1,3]
[5,"Булунская ",6,48,5,3,null,null,null,6]
[6,"Верхневилюйская",23,332,54,40,9,1,1,23]
[7,"Верхнеколымская ",5,55,10,5,1,null,null,5]
[8,"Верхоянская ",13,102,8,6,null,null,null,9]
[9,"Вилюйская ",20,120,21,15,9,null,null,19]
[10,"Горная",9,93,14,11,2,null,1,9]
[11,"Жиганская ",5,37,6,6,null,null,1,5]
[12,"Кобяйская ",15,161,23,22,null,null,null,15]
[13,"Ленская ",14,43,14,14,3,null,null,14]
[14,"Момская ",7,54,7,6,1,null,null,6]
[15,"Намская ",20,231,39,34,12,1,1,19]
[16,"Нижнеколымская ",3,19,3,2,null,null,null,3]
[17,"Нюрбинская",20,150,21,19,20,null,null,19]
[18,"Оймяконская ",6,56,1,1,null,null,null,5]
[19,"Олекминская ",25,197,46,31,3,null,null,21]
[20,"Оленекская ",5,34,8,5,null,null,1,5]
[21,"Среднеколымская ",9,38,6,6,null,null,null,6]
[22,"Сунтарская* ",21,224,32,25,14,null,2,21]
[23,"Таттинская ",15,157,25,23,null,null,2,15]
[24,"Томпонская ",10,73,9,7,null,null,null,9]
[25,"Усть-Алданская",28,339,59,39,10,2,2,28]
[26,"Усть-Майская ",5,12,null,null,null,null,null,5]
[27,"Усть-Янская ",5,17,null,null,null,null,null,1]
[28,"Хангаласская* ",21,175,44,27,4,null,1,16]
[29,"Чурапчинская ",19,206,34,22,null,null,1,14]
[30,"Мирнинская ",3,20,4,2,null,null,null,3]
[31,"Нерюнгринская ",2,18,3,2,null,null,2,2]
[32,"Эвено-Бытантайская ",3,10,1,1,null,null,1,3]
[33,"Якутская",4,92,19,17,4,1,null,4]
[34,"Алданская*",5,32,6,3,1,null,0,3]
[35,"Мег.-Кангаласская* ",30,278,45,37,14,null,2,28]
[36,"Бердигестях ДБ",1,36,3,3,1,null,1,1]
[37,"Алданский БИЦ*",1,11,1]
[38,"Томмотский БИЦ*",1,6,1,1,null,null,null,1]
[null,"Итого по РС(Я)",{"$f":"SUM(C8:C45)","v":407},3717,607,468,115,7,22,371]

{"sheet":"т.9","index":14,"n_rows":51,"n_cols":12,"rows_kept":51,"cut":false,"hidden":false,"merged":[[1,0,1,11],[3,5,3,8],[3,9,3,11]]}
[null,null,null,null,null,null,null,null,null,"Таблица 9"]
["Персонал библиотек республики."]
[]
[null,null,"Штат","Числ.","из них","из них имеют",null,null,null,"со стажем работы"]
["№","ЦБС","библ.","раб-ков","основной","высшее","из них","среднее","из них","до 3","от 3 до","свыше"]
[null,null,null,"всего","персонал","обр.","библ.","спец.","библ.","лет","10 лет","10 лет"]
[1,"Абыйская",20,20,14,9,5,4,4,5,2,7]
[2,"Аллаиховская",15.5,17,11,8,8,3,1,1,2,8]
[3,"Амгинская",58.5,60,42,34,25,6,4,null,12,30]
[4,"Анабарская",8,8,5,1,1,3,1,2,1,2]
[5,"Булунская",32,32,21,5,4,14,9,3,9,9]
[6,"Верхневилюйская",57.5,65,43,31,28,12,7,11,8,24]
[7,"Верхнеколымская",17.5,21,15,6,6,6,null,2,6,7]
[8,"Верхоянская",52,56,36,16,15,20,10,6,8,22]
[9,"Вилюйская",53,57,43,31,27,12,7,5,10,28]
[10,"Горная",20,20,19,16,14,2,1,1,8,10]
[11,"Жиганская",9,9,7,7,7,null,null,2,4,1]
[12,"Кобяйская",44.5,54,32,22,22,10,8,3,9,20]
[13,"Ленская",92,92,55,21,8,27,11,4,23,28]
[14,"Момская",20,22,14,9,9,4,4,5,3,6]
[15,"Намская",56.5,66,39,30,28,8,2,8,10,21]
[16,"Нижнеколымская",15,13,12,3,3,9,6,2,4,6]
[17,"Нюрбинская",63.5,68,46,35,28,9,8,4,11,31]
[18,"Оймяконская",26.5,27,20,10,8,10,7,5,6,9]
[19,"Олекминская",62.5,69,46,24,11,18,11,9,12,25]
[20,"Оленекская",14.5,14,13,6,3,5,3,1,9,3]
[21,"Среднеколымская",20,20,17,7,7,9,8,2,6,9]
[22,"Сунтарская*",61.75,65,45,29,26,13,7,4,15,26]
[23,"Таттинская",42.5,49,31,23,20,8,7,1,8,22]
[24,"Томпонская",37,37,30,17,14,9,6,5,14,11]
[25,"Усть-Алданская",73,92,56,48,45,7,4,6,13,37]
[26,"Усть-Майская",33,33,24,13,8,10,4,7,4,13]
[27,"Усть-Янская",20,20,17,8,6,4,3,7,5,5]
[28,"Хангаласская*",65,84,52,44,36,6,3,6,16,30]
[29,"Чурапчинская",48,59,36,28,26,8,3,9,8,19]
[30,"Мирнинская",69.25,71,46,31,26,13,4,5,24,17]
[31,"Нерюнгринская",36.5,36,29,17,9,12,5,6,6,17]
[32,"Эвено-Бытантай",8,9,5,null,null,4,1,null,1,4]
[33,"Якутская*",185,198,172,156,121,15,7,41,46,85]
[34,"Алданская*",44.75,44,33,14,9,18,6,6,7,20]
[35,"М.-Кангаласская*",66,58,56,46,41,9,9,10,17,29]
[36,"ГБ ГП \"г.Нерюнгри \"",11.5,15,13,12,12,1,1,1,6,6]
[37,"Бердигестях ДБ",7.5,8,4,4,4,null,null,null,1,3]
[38,"Б-ка ГО \"п. Жатай\"",5,5,3,2,2,1,1,null,1,2]
[39,"Алданский БИЦ*",10.5,11,7,2,null,5,1,null,4,3]
[40,"Томмотский БИЦ*",10,10,7,2,1,3,3,null,4,3]
[null,"Итого по МБ",{"$f":"SUM(C7:C46)","v":1592.25},1714,1216,827,673,337,187,195,363,658]
[null,"НБ РС(Я)",213,215,206,192,152,14,7,31,32,143]
[null,"ЦДЮ НБ РС(Я)",40,41,41,39,25,2,1,3,6,32]
[null,"РБС",17.5,18,15,13,11,2,null,4,3,8]
[null,"Итого по РС(Я)",{"$f":"SUM(C47:C50)","v":1862.75},{"$f":"SUM(D47:D50)","v":1988},1478,1071,861,355,195,233,404,841]

{"sheet":"т.9.1","index":15,"n_rows":45,"n_cols":12,"rows_kept":45,"cut":false,"hidden":false,"merged":[[1,0,1,11],[3,9,3,11],[3,5,3,8]]}
[null,null,null,null,null,null,null,null,null,null,"Таблица 9.1"]
["Персонал библиотек  (из общего числа- в сельской местности)"]
[]
[null,null,"Штат","Числ.","из них","из них имеют",null,null,null,"со стажем работы"]
["№","ЦБС","библ.","раб-ков","осн.","высшее","из них","среднее","из них","от 3 до","от 6 до ","свыше"]
[null,null,null,"всего","перс.","обр.","библ.","спец.","библ.","6 лет","10 лет","10 лет"]
[1,"Абыйская",10,10,6,3,2,2,2,1,1,4]
[2,"Аллаиховская",5.5,7,4,1,1,3,1,null,null,4]
[3,"Амгинская",58.5,60,42,34,25,6,4,null,12,30]
[4,"Анабарская",8,8,5,1,1,3,1,2,1,2]
[5,"Булунская",12,12,7,2,1,3,1,null,5,2]
[6,"Верхневилюйская",57.5,65,43,31,28,12,7,11,8,24]
[7,"Верхнеколымская",4.5,7,5,null,null,4,null,null,null,5]
[8,"Верхоянская",21.5,25,13,4,3,9,4,3,2,8]
[9,"Вилюйская",27,31,20,14,11,6,3,4,5,11]
[10,"Горная",20,20,19,16,14,2,1,1,8,10]
[11,"Жиганская",9,9,7,7,7,null,null,2,4,1]
[12,"Кобяйская",24.5,32,17,10,10,7,5,2,3,12]
[13,"Ленская",35,35,15,4,3,6,1,null,9,6]
[14,"Момская",20,22,14,9,9,4,4,5,3,6]
[15,"Намская",56.5,66,39,30,28,8,2,8,10,21]
[16,"Нижнеколымская",4,3,3,1,1,2,null,1,1,1]
[17,"Нюрбинская",27,31,23,15,11,8,7,2,4,17]
[18,"Оймяконская",10.5,11,8,7,6,1,1,1,3,4]
[19,"Олекминская",36.5,43,26,8,8,14,9,4,3,19]
[20,"Оленекская",14.5,14,13,6,3,5,3,1,9,3]
[21,"Среднеколымская",9,9,9,2,2,6,5,1,4,4]
[22,"Сунтарская*",61.75,65,45,29,26,13,7,4,15,26]
[23,"Таттинская",42.5,49,31,23,20,8,7,1,8,22]
[24,"Томпонская",13,13,12,5,4,5,4,3,6,3]
[25,"Усть-Алданская*",73,92,56,48,45,7,4,6,13,37]
[26,"Усть-Майская",7,7,5,3,2,2,null,2,null,3]
[27,"Усть-Янская",6,6,6,3,3,1,1,2,1,3]
[28,"Хангаласская*",30.25,45,24,19,15,4,3,3,7,14]
[29,"Чурапчинская",48,59,36,28,26,8,3,9,8,19]
[30,"Мирнинская",4.5,6,3,1,1,2,null,null,null,3]
[31,"Нерюнгринская",2,2,2,null,null,2,1,1,null,1]
[32,"Эвено-Бытантайская",8,9,5,null,null,4,1,null,1,4]
[33,"Якутская",12,13,12,10,8,2,null,1,3,8]
[34,"Алданская*",7,6,5,null,null,4,1,1,1,3]
[35,"М.-Кангаласская*",64,56,54,44,39,9,9,9,17,28]
[36,"Бердигестях ДБ*",7.5,8,4,4,4,null,null,null,1,3]
[37,"Алданский БИЦ*",1,1,1,null,null,1,null,null,null,1]
[38,"Томмотский БИЦ*",1,1,1,null,null,null,null,null,1]
[null,"Итого по РС(Я)",{"$f":"SUM(C7:C44)","v":859.5},958,640,422,367,183,102,91,177,372]

{"sheet":"т.10","index":16,"n_rows":54,"n_cols":10,"rows_kept":54,"cut":false,"hidden":false,"merged":[]}
[null,null,null,null,null,null,"Таблица 10"]
[null,null,"Электронные (сетевые) ресурсы"]
[]
["№","ЦБС","Число","из них","Число","из них","Число","Число","Объем","Объем"]
[null,null,"б-к,",null,"б-к, ","пред.","б-к,","б-к,","ЭК","ЭБ"]
[null,null,"созд.","доступ","им.","док.","им.","им."]
[null,null,"ЭК","к ЭК","ЭБ","в откр.","сетевые","инсталл."]
[null,null,null,"через",null,"доступе","лиценз.","док."]
[null,null,null,"Инт.",null,null,"док."]
[1,"Абыйская",1,1,null,null,null,null,16620]
[2,"Аллаиховская",1,null,null,null,null,null,6792]
[3,"Амгинская",1,1,1,1,1,null,6236,66]
[4,"Анабарская",1,null,1,null,null,null,7697,21]
[5,"Булунская",1,null,null,null,null,null,21243]
[6,"Верхневилюйская",1,1,1,1,1,1,27719,8886]
[7,"Верхнеколымская",1,null,null,null,1,1,5120]
[8,"Верхоянская",1,1,null,null,null,1,31974]
[9,"Вилюйская",1,1,1,1,null,null,23053,134]
[10,"Горная",1,1,1,1,1,1,9000,57]
[11,"Жиганская",1,1,null,null,null,null,9222]
[12,"Кобяйская",1,1,1,1,1,null,22629,107]
[13,"Ленская",1,1,null,null,1,1,20379]
[14,"Момская",1,1,null,null,null,null,2140]
[15,"Намская",1,1,null,null,null,1,20795]
[16,"Нижнеколымская",1,null,null,null,null,1,5296]
[17,"Нюрбинская",1,1,null,null,null,null,7682]
[18,"Оймяконская",1,1,null,null,null,null,8055]
[19,"Олекминская",1,null,1,null,null,1,21995,10964]
[20,"Оленекская",1,1,null,null,null,null,6068]
[21,"Среднеколымская",1,1,null,null,null,null,4857]
[22,"Сунтарская*",1,1,1,1,1,1,28471,196]
[23,"Таттинская",1,1,1,1,1,1,16116,845]
[24,"Томпонская",1,null,1,null,1,1,6896,2545]
[25,"Усть-Алданская",1,1,1,1,null,1,10972,457]
[26,"Усть-Майская",1,1,null,null,null,1,6153]
[27,"Усть-Янская",1,null,null,null,null,null,14263]
[28,"Хангаласская*",1,1,1,1,1,1,34960,1749]
[29,"Чурапчинская",1,1,null,null,null,null,4614]
[30,"Мирнинская",1,1,null,null,1,1,29744]
[31,"Нерюнгринская",1,1,1,1,5,5,63541,2519]
[32,"Эвено-Бытантайская",1,1,null,null,null,null,2529]
[33,"Якутская",1,1,null,null,2,18,169348]
[34,"Алданская*",1,1,1,1,1,1,67495,6649]
[35,"Мегино-Кангаласская*",1,1,null,null,null,null,30312]
[36,"ГБ ГП \"г.Нерюнгри \"",1,1,null,null,1,1,24950]
[37,"Бердигестях ДБ",null,null,null,null,1]
[38,"Б-ка ГО \"п. Жатай\""]
[39,"Алданский БИЦ*"]
[40,"Томмотский БИЦ*"]
[null,"Итого по МБ",{"$f":"SUM(C10:C49)","v":36},28,14,11,21,40,{"$f":"SUM(I10:I47)","v":794936},{"$f":"SUM(J10:J47)","v":35195}]
[null,"НБ РС(Я)",1,1,1,1,1,1,813747,49836]
[null,"ЦДЮ НБ РС(Я)",1,1,null,null,null,null,62684]
[null,"РБС",1,1,1,1,1,1,31602,21453]
[null,"ВСЕГО ",{"$f":"SUM(C50:C53)","v":39},31,16,13,23,42,1702969,106484]

{"sheet":"т.11","index":17,"n_rows":52,"n_cols":10,"rows_kept":52,"cut":false,"hidden":false,"merged":[[0,7,0,8],[5,8,6,8],[3,9,6,9],[1,0,1,6],[2,0,2,6],[3,3,3,4],[4,3,6,3],[4,4,6,4],[3,5,4,6],[5,5,6,5],[5,6,6,6],[5,7,6,7],[3,7,4,8]]}
[null,null,null,null,null,null,null,"Таблица 11"]
["Информационное обслуживание"]
[]
["№","ЦБС","всего","в том числе",null,"Выполнено справок и консульт.",null,"Число обращений удал. польз. (сайт)",null,"\"+ -\""]
[null,null,"документов","МБА,   ММБА","вирт.    Чит.     Залы"]
[null,null,"из фондов",null,null,"всего","из них в удал. режиме",2019,2020]
[null,null,"др. б-к"]
[1,"Абыйская ",7,7,null,1842,null,367,null,{"$f":"I8-H8","v":-367}]
[2,"Аллаиховская ",null,null,null,211,17,null,64,{"$f":"I9-H9","v":64}]
[3,"Амгинская ",101,2,99,3634,1237,1760,5572,3812]
[4,"Анабарская ",null,null,null,1341,null,258,147,-111]
[5,"Булунская ",null,null,null,1831,null,1238,6281,5043]
[6,"Верхневилюйская",95,95,null,8005,5355,417,559,142]
[7,"Верхнеколымская ",null,null,null,4984,393,19932,8916,-11016]
[8,"Верхоянская ",null,null,null,1079,10,3,null,-3]
[9,"Вилюйская ",null,null,null,10250,1644,19987,25368,5381]
[10,"Горная",1513,1513,null,2065,407,1302,4863,3561]
[11,"Жиганская ",null,null,null,6758,73,206,2033,1827]
[12,"Кобяйская ",9,9,null,5056,667,2679,966,-1713]
[13,"Ленская ",126,null,126,6309,null,null,215,215]
[14,"Момская ",6,6,null,928,68,null,null,0]
[15,"Намская ",55,55,null,3502,null,2365,3398,1033]
[16,"Нижнеколымская ",null,null,null,714,null,null,261,261]
[17,"Нюрбинская",null,null,null,6257,1160,318,null,-318]
[18,"Оймяконская ",null,null,null,8996,8107,1575,1831,256]
[19,"Олекминская ",191,null,191,9524,877,1037,874,-163]
[20,"Оленекская ",28,28,null,1587,52,7456,956,-6500]
[21,"Среднеколымская ",null,null,null,1849,null,1502,1,-1501]
[22,"Сунтарская* ",3,3,null,7423,null,10490,15107,4617]
[23,"Таттинская ",786,783,3,4064,null,45513,124092,78579]
[24,"Томпонская ",61,61,null,4975,30,null,10025,10025]
[25,"Усть-Алданская",64,64,null,17325,5848,5977,10726,4749]
[26,"Усть-Майская ",682,682,null,3046,702,2797,7610,4813]
[27,"Усть-Янская ",null,null,null,5925,4688,598,333,-265]
[28,"Хангаласская* ",124,124,null,9718,2947,14324,21626,7302]
[29,"Чурапчинская ",2,2,null,4828,845,6641,15627,8986]
[30,"Мирнинская ",5,5,null,8345,1941,5219,9489,4270]
[31,"Нерюнгринская ",95,null,95,9450,3388,19051,30734,11683]
[32,"Эвено-Бытантай",null,null,null,391,null,25,null,-25]
[33,"Якутская",128,128,null,18200,1356,17796,197169,179373]
[34,"Алданская*",52,2,50,3334,26,222543,478776,256233]
[35,"Мег.-Кангаласская*",10,10,null,2836,162,2242,19090,16848]
[36,"ГБ ГП \"г.Нерюнгри \"",null,null,null,5230,1274,12201,2145,-10056]
[37,"Бердигестях ДБ",null,null,null,221,118,17135,15788,-1347]
[38,"Б-ка ГО \"п. Жатай\"",null,null,null,590,231,1350,620,-730]
[39,"Алданский БИЦ*",null,null,null,467,null,null,null,0]
[40,"Томмотский БИЦ*",null,null,null,443,null,null,null,0]
[null,"ИТОГО по МБ",{"$f":"SUM(C8:C47)","v":4143},3579,564,193533,43623,446304,1021262,574958]
[null,"НБ РС(Я)",73,7,66,24544,22435,176542,751266,574724]
[null,"ЦДЮ НБ РС(Я)",356784,36,356748,3210,1550,4562,6436,1874]
[null,"РБС",112,112,null,4377,1616,3322,9322,6000]
[null,"Итого по РС(Я)",{"$f":"SUM(C48:C51)","v":361112},3734,357378,225664,69224,{"$f":"SUM(H48:H51)","v":630730},{"$f":"SUM(I48:I51)","v":1788286},1157556]